Workbook

Sheet Mappatura e valutazione rischio
C2: ALLEGATO A - PTPCT 2026-2028 GESTIONE DEL RISCHIO
B4: FASE 1: ANALISI DEL CONTESTO | E4: FASE2: VALUTAZIONE DEL RISCHIO | T4: FASE 3: TRATTAMENTO DEL RISCHIO
G5: INDICI DI PROBABILITA' | N5: INDICI DI IMPATTO
B6: Processo | C6: Area di rischio | D6: Struttura responsabile | E6: Rischio | F6: Fattori abilitanti | G6: Trasparenza | H6: Controlli | I6: Regolamentazione | J6: Complessità | K6: Conflitto interessi | L6: Rilevanza esterna | M6: Effetti economici | N6: Contenzioso | O6: Danno sull'organizzazione | P6: Danno di immagine | Q6: Probabilità | R6: Impatto | S6: Valore complessivo del di rischio inerente | T6: Misura | U6: Tipologia di misura | V6: Tempistica di attuazione delle misure | W6: Target misure | X6: Responsabile della misura | Y6: Giudizio di adeguatezza della misura (molto adeguata, adeguata, non adeguata) | Z6: Valore omplessivo del rischio residuo
B7: Reclutamento del personale | C7: Acquisizione e gestione del personale | D7: Comitato esecutivo -Direzione generale - Amministrazione e Personale | E7: Alterazione delle modalità di reclutamento del personale al fine di favorire determinati candidati | F7: A, B, D | G7: ALTA | H7: MEDI | I7: MEDIA | J7: MEDIA | K7: ALTO | L7: ALTA | M7: ALTI | N7: MEDIO | O7: ALTO | P7: MEDIO | Q7: ALTA | R7: MEDIO | S7: RILEVANTE | T7: Osservanza della normativa anticorruzione in materia di nomina di commissari di valutazione. Verifica delle ipotesi di conflitto di interessi dei com-ponenti delle commissioni di valutazione. | U7: Disciplina del conflitto di interessi | V7: Tutte le procedure | W7: 1 | X7: Comitato esecutivo/Direzione generale | Y7: Molto adeguata | Z7: BASSO
B8: Autorizzazione a soggetti esterni quali enti di formazione | C8: Istituzionale | D8: Consiglio e Comitato esecutivo | E8: Valutazione inappropriata dei soggetti erogatori di formazione finalizzata all’ottenimento di vantaggi personali | F8: A, B, D | G8: MEDIA | H8: ALTI | I8: MEDIA | J8: MEDIA | K8: MEDIO | L8: ALTA | M8: MEDI | N8: BASSO | O8: ALTO | P8: MEDIO | Q8: MEDIA | R8: MEDIO | S8: MEDIO | T8: Predefinizione di parametri e criteri di scelta oggettivi. Valutazione dei soggetti interessati da parte di una Commissione. | U8: Controllo | V8: Tutte le procedure | W8: 1 | X8: Consiglio e Comitato esecutivo | Y8: Molto adeguata | Z8: BASSO
B9: Scelta dell’offerta tra quelle presentate nelle procedure per l’acquisizione di beni e servizi o per l’affidamento di lavorI | C9: Contratti pubblici | D9: Comitato esecutivo | E9: Uso distorto del criterio dell’offerta economicamente più vantaggiosa, finalizzato a favorire un determinato operatore economico | F9: A, B, D | G9: ALTA | H9: MEDI | I9: ALTA | J9: MEDIA | K9: MEDIO | L9: ALTA | M9: ALTI | N9: MEDIO | O9: BASSO | P9: ALTO | Q9: ALTA | R9: MEDIO | S9: RILEVANTE | T9: Predefinizione dei parametri tecnici. Verifica delle ipotesi di conflitto di interessi dei componenti delle commissioni di valutazione. | U9: Disciplina del conflitto di interessi | V9: Tutte le procedure | W9: 1 | X9: Comitato esecutivo | Y9: Molto adeguata | Z9: BASSO
B10: Affidamento diretto di lavori, servizi e forniture | C10: Contratti pubblici | D10: Direzione generale - Affari generali | E10: Affidamenti a soggetti non idonei al fine di favorire determinati operatori economici o mancato rispetto del principio della rotazione | F10: A, B, D | G10: MEDIA | H10: MEDI | I10: MEDIA | J10: MEDIA | K10: MEDIO | L10: ALTA | M10: MEDI | N10: BASSO | O10: BASSO | P10: ALTO | Q10: MEDIA | R10: MEDIO | S10: MEDIO | T10: Rotazione dei fornitori. Verifica dei requisiti e delle autocertificazioni presentate. | U10: Controllo | V10: Tutte le procedure | W10: 1 | X10: Comitato esecutivo/Direzione generale Ufficio - Affari generali | Y10: Molto adeguata | Z10: BASSO
B11: Individuazione della procedura di scelta del contraente | C11: Contratti pubblici | D11: Direzione generale - Affari generali | E11: Utilizzo dell’affidamento diretto al di fuori dei casi previsti dalla legge | F11: A, B, D | G11: BASSA | H11: MEDI | I11: ALTA | J11: MEDIA | K11: BASSO | L11: ALTA | M11: MEDI | N11: BASSO | O11: BASSO | P11: MEDIO | Q11: BASSA | R11: MEDIO | S11: BASSO | T11: Audit su bandi e capitolati per verificarne la conformità alla normativa vigente e alle linee guida ANAC. | U11: Controllo | V11: Tutte le procedure del 2023 | W11: Almeno il 50% delle procedure | X11: Direzione generale/ Affari generali | Y11: Molto adeguata | Z11: BASSO
B12: Adozione di pareri concernenti l’ordinamento del notariato o tematiche sulla professione notarile. | C12: Istituzionale | D12: Consiglio - Ufficio Studi | E12: Rilascio di pareri volti a favorire indebitamente la categoria professionale. | F12: A, B, D | G12: BASSA | H12: MEDI | I12: MEDIA | J12: ALTA | K12: MEDIO | L12: ALTA | M12: BASSI | N12: BASSO | O12: BASSO | P12: ALTO | Q12: MEDIA | R12: MEDIO | S12: MEDIO | T12: Redazione di un’apposita relazione da parte del Settore studi successiva all’adozione del parere. Verifica di congruità del parere adottato da parte del Consiglio, sulla base della relazione redatta dal Settore studi. | U12: Controllo | V12: Ogni parere | W12: Almeno il 50% dei pareri | X12: Consiglio | Y12: Molto adeguata | Z12: BASSO
B13: Conferimento di incarichi di consulenza e nomine varie | C13: incarichi e nomine | D13: Comitato esecutivo -Direzione generale | E13: Conferimento di incarichi/nomine a soggetti non professionalmente adeguati oppure che versano in condizioni di incompatibilità e/o conflitto di interessi | F13: A, B, D | G13: ALTA | H13: ALTI | I13: MEDIA | J13: BASSA | K13: MEDIO | L13: ALTA | M13: MEDI | N13: BASSO | O13: MEDIO | P13: ALTO | Q13: MEDIA | R13: MEDIO | S13: MEDIO | T13: Sottoscrizione, da parte degli interessati, della modulistica volta a dichiarare l’assenza di incompatibilità e/o conflitto di interessi. Verifica della congruità e della pertinenza del curriculum vitae dell’interessato. Pubblicazione dei dati e delle informazioni concernenti i soggetti incaricati/nominati previsti dalla normativa vigente. Applicazione ai soggetti incaricati/nominati del Codice di comportamento del CNN. | U13: Regolamentazione | V13: Ogni incarico | W13: 1 | X13: Comitato esecutivo/Direzione generale | Y13: Molto adeguata | Z13: BASSO
B14: Definizione dell’oggetto e dei requisiti dell’incarico o della nomina | C14: incarichi e nomine | D14: Consiglio e Comitato esecutivo | E14: Valutazione inappropriata dell’oggetto e dei requisiti dell’incarico o della nomina al fine di favorire determinati soggetti | F14: A, B, D | G14: BASSA | H14: MEDI | I14: MEDIA | J14: MEDIA | K14: MEDIO | L14: BASSA | M14: BASSI | N14: BASSO | O14: BASSO | P14: ALTO | Q14: MEDIA | R14: MEDIO | S14: MEDIO | T14: Sottoposizione preliminare dell'oggetto e dei requisiti dell'incarico al Consiglio. | U14: Controllo | V14: Ogni incarico | W14: 1 | X14: Consiglio e Comitato esecutivo | Y14: Molto adeguata | Z14: BASSO
B15: Analisi e definizione dei fabbisogni per l’approvvigionamento di beni e servizi | C15: Contratti pubblici | D15: Direzione generale - Affari generali | E15: Definizione di un fabbisogno non rispondente a criteri di efficienza/efficacia/economicità | F15: A, B, D | G15: BASSA | H15: MEDI | I15: BASSA | J15: MEDIA | K15: MEDIO | L15: BASSA | M15: MEDI | N15: BASSO | O15: MEDIO | P15: ALTO | Q15: MEDIA | R15: MEDIO | S15: MEDIO | T15: Predeterminazione dei criteri e individuazione delle priorità e preventiva sottoposizione al Consiglio. Utilizzo di convenzioni e accordi/quadro per i servizi standardizzabili. | U15: Controllo | V15: Ogni definizione di fabbisogno | W15: 1 | X15: Consiglio e Comitato esecutivo | Y15: Molto adeguata | Z15: BASSO
B16: Protocollazione di atti e documenti in entrata e in uscita | C16: Strumentale | D16: Segreterie - Archivio - Protocollo | E16: Alterazione del processo di ricezione e protocollazione di atti in ingresso al CNN al fine di incidere sulla regolarità dei relativi processi, per conseguire vantaggi personali | F16: A, B, D | G16: BASSA | H16: ALTI | I16: ALTA | J16: MEDIA | K16: BASSO | L16: BASSA | M16: BASSI | N16: BASSO | O16: MEDIO | P16: BASSO | Q16: BASSA | R16: MEDIO | S16: MEDIO | T16: Stampa del registro di protocollo a fine giornata. | U16: Organizzazione | V16: Ogni giorno | W16: 1 | X16: Segreterie Archivio e Protocollo | Y16: Molto adeguata | Z16: BASSO
B17: Individuazione dei notai da proporre al Ministero della giustizia quali componenti della commissione concorsuale | C17: Istituzionale | D17: Consiglio | E17: Designazione di notai che abbiano interessi propri alla partecipazione alla commissione concorsuale commissione concorsuale | F17: A, B, D | G17: BASSA | H17: MEDI | I17: ALTA | J17: MEDIA | K17: ALTO | L17: ALTA | M17: BASSI | N17: BASSO | O17: ALTO | P17: ALTO | Q17: MEDIA | R17: ALTO | S17: RILEVANTE | T17: Compilazione di appositi moduli di autocertificazione di assenza di conflitto di interessi. | U17: Disciplina del conflitto di interessi | V17: Ogni designazione | W17: 1 | X17: Presidenza | Y17: Molto adeguata | Z17: BASSO
B18: Concessione di Patrocini del CNN ad eventi di soggetti terzi | C18: Istituzionale | D18: Consiglio - Comunicazione e Stampa | E18: Inappropriata valutazione dell’oggetto e dello scopo dell’evento al fine di favorire soggetti terzi | F18: A, B, D | G18: BASSA | H18: ALTI | I18: MEDIA | J18: BASSA | K18: MEDIO | L18: ALTA | M18: BASSI | N18: BASSO | O18: BASSO | P18: ALTO | Q18: BASSA | R18: MEDIO | S18: BASSO | T18: Rispetto del regolamento interno che disciplina la concessione di patrocini | U18: Regolamentazione | V18: Ogni concessione | W18: 1 | X18: Comunicazione e stampa | Y18: Molto adeguata | Z18: BASSO
B19: Iniziative di comunicazione istituzionale | C19: Istituzionale | D19: Consiglio - Comunicazione e Stampa | E19: Indebita promozione di iniziative di comunicazione istituzionale non conformi alle attività dell’ente al fine di favorire economicamente soggetti terzi | F19: A, B, D | G19: BASSA | H19: MEDI | I19: BASSA | J19: MEDIA | K19: ALTO | L19: ALTA | M19: MEDI | N19: BASSO | O19: BASSO | P19: ALTO | Q19: MEDIA | R19: MEDIO | S19: MEDIO | T19: Sottoposizione preliminare della proposta di iniziativa di comunicazione al Consiglio | U19: Controllo | V19: Ogni iniziativa | W19: 1 | X19: Comitato esecutivo | Y19: Molto adeguata | Z19: BASSO
B20: Riconoscimento di crediti formativi professionali | C20: Istituzionale | D20: Consiglio | E20: Valutazione inappropriata dei soggetti richiedenti il riconoscimento di crediti formativi professionali | F20: A, B, D | G20: BASSA | H20: MEDI | I20: MEDIA | J20: BASSA | K20: MEDIO | L20: ALTA | M20: BASSI | N20: BASSO | O20: BASSO | P20: ALTO | Q20: MEDIA | R20: MEDIO | S20: MEDIO | T20: Verifica della congruità della richiesta di riconoscimento e corrispondenza della stessa alle disposizioni del regolamento sulla formazione professionale permanente da parte della Fondazione Italiana del Notariato | U20: Controllo | V20: Ogni riconoscimento | W20: 1 | X20: Fondazione Italiana del Notariato | Y20: Molto adeguata | Z20: BASSO
B21: Progressioni di carriera del personale dipendente | C21: Acquisizione e gestione del personale | D21: Comitato esecutivo -Direzione generale - Amministrazione e Personale | E21: Progressioni economiche o di carriera accordate illegittimamente allo scopo di agevolare dipendenti/candidati particolari | F21: A, B, D | G21: BASSA | H21: ALTI | I21: BASSA | J21: MEDIA | K21: MEDIO | L21: BASSA | M21: MEDI | N21: MEDIO | O21: MEDIO | P21: BASSO | Q21: MEDIA | R21: MEDIO | S21: MEDIO | T21: Sottoscrizione preventiva di accordi volti a disciplinare la progressione di carriera del personale dipendente | U21: Regolamentazione | V21: Ogni procedura | W21: 1 | X21: Comitato esecutivo/Direzione generale | Y21: Molto adeguata | Z21: BASSO
B22: Acquisto dei volumi per la biblioteca | C22: Strumentale | D22: Segretario - Ufficio Studi | E22: Acquisto di volumi non pertinenti alle attività istituzionali del CNN o, comunque, non utili ai suoi fini istituzionali | F22: A, B, D | G22: BASSA | H22: MEDI | I22: MEDIA | J22: BASSA | K22: BASSO | L22: BASSA | M22: BASSI | N22: BASSO | O22: BASSO | P22: BASSO | Q22: BASSA | R22: BASSO | S22: BASSO | T22: Definizione preliminari del fabbisogno. Autorizzazione del Direttore generale all’acquisto di volumi non inclusi nel fabbisogno | U22: Controllo | V22: Ogni acquisto | W22: 1 | X22: Segretario | Y22: Molto adeguata | Z22: BASSO
B23: Rimborsi spese a Consiglieri e personale amministrativo | C23: Strumentale | D23: Comitato esecutivo -Amministrazione e Personale | E23: Autorizzazione di spese e rimborsi non conformi alle previsioni regolamentari interne o sulla base di documentazione non attendibile | F23: A, B, D | G23: BASSA | H23: ALTI | I23: MEDIA | J23: BASSA | K23: BASSO | L23: BASSA | M23: BASSI | N23: BASSO | O23: BASSO | P23: MEDIO | Q23: MEDIA | R23: BASSO | S23: BASSO | T23: Utilizzo di modulistica standardizzata Autorizzazione preventiva da parte del Direttore generale | U23: Controllo | V23: Ogni procedura di rimborso | W23: 1 | X23: Comitato esecutivo - Amministrazione e Personale | Y23: Molto adeguata | Z23: BASSO
B24: Affidamento dei servizi assicurativi per responsabilità professionale dei notai | C24: Contratti pubblici | D24: Consiglio - Comitato esecutivo - Direzione generale - Affari generali | E24: Definizione di requisiti di partecipazione alla gara al fine di favorire determinati operatori economici anche al fine di far proporre ulteriori polizze integrative legate a quella obbligatoria | F24: A, B, D | G24: ALTA | H24: ALTI | I24: ALTA | J24: MEDIA | K24: BASSO | L24: ALTA | M24: ALTI | N24: BASSO | O24: MEDIO | P24: ALTO | Q24: MEDIA | R24: MEDIO | S24: MEDIO | T24: Definizione dei requisiti di partecipazione e dei requisiti di polizza anche sulla base delle statiche sinistri rilevati negli anni precedenti. Definizione dei codici sinistro. | U24: Regolamentazione | V24: Ogni affidamento | W24: 1 | X24: Direzione generale / Affari generali | Y24: Molto adeguata | Z24: BASSO

Sheet Matrice di rischio

Sheet Mappatura e catalogo rischi
B1: Area di rischio | C1: Struttura di riferimento | D1: Processo | E1: Rischio | F1: Livello di rischio | G1: Misura | H1: TEMPISTICA MISURA | I1: TARGET MISURA | J1: RESPONSABILE MISURA
A2: 1 | B2: ='Mappatura e valutazione rischio'!C7 -> Acquisizione e gestione del personale | C2: Comitato esecutivo/Direzionegenerale/Amministrazione | D2: ='Mappatura e valutazione rischio'!B7 -> Reclutamento del personale | E2: ='Mappatura e valutazione rischio'!E7 -> Alterazione delle modalità di reclutamento del personale al fine di favorire determinati candidati | F2: ='Mappatura e valutazione rischio'!S7 -> RILEVANTE | G2: ='Mappatura e valutazione rischio'!T7 -> Osservanza della normativa anticorruzione in materia di nomina di commissari di valutazione. Verifica delle ipotesi di conflitto di interessi dei com-ponenti delle commissioni di valutazione. | H2: ='Mappatura e valutazione rischio'!V7 -> Tutte le procedure | I2: 1 | J2: Comitato esecutivo/Direzione generale
A3: 2 | B3: ='Mappatura e valutazione rischio'!C8 -> Istituzionale | C3: ='Mappatura e valutazione rischio'!D8 -> Consiglio e Comitato esecutivo | D3: ='Mappatura e valutazione rischio'!B8 -> Autorizzazione a soggetti esterni quali enti di formazione | E3: ='Mappatura e valutazione rischio'!E8 -> Valutazione inappropriata dei soggetti erogatori di formazione finalizzata all’ottenimento di vantaggi personali | F3: ='Mappatura e valutazione rischio'!S8 -> MEDIO | G3: ='Mappatura e valutazione rischio'!T8 -> Predefinizione di parametri e criteri di scelta oggettivi. Valutazione dei soggetti interessati da parte di una Commissione. | H3: ='Mappatura e valutazione rischio'!V8 -> Tutte le procedure | I3: 1 | J3: Consiglio e Comitato esecutivo
A4: 3 | B4: ='Mappatura e valutazione rischio'!C9 -> Contratti pubblici | C4: ='Mappatura e valutazione rischio'!D9 -> Comitato esecutivo | D4: ='Mappatura e valutazione rischio'!B9 -> Scelta dell’offerta tra quelle presentate nelle procedure per l’acquisizione di beni e servizi o per l’affidamento di lavorI | E4: ='Mappatura e valutazione rischio'!E9 -> Uso distorto del criterio dell’offerta economicamente più vantaggiosa, finalizzato a favorire un determinato operatore economico | F4: ='Mappatura e valutazione rischio'!S9 -> RILEVANTE | G4: ='Mappatura e valutazione rischio'!T9 -> Predefinizione dei parametri tecnici. Verifica delle ipotesi di conflitto di interessi dei componenti delle commissioni di valutazione. | H4: ='Mappatura e valutazione rischio'!V9 -> Tutte le procedure | I4: 1 | J4: Comitato esecutivo
A5: 4 | B5: ='Mappatura e valutazione rischio'!C10 -> Contratti pubblici | C5: Direzione generale - Affari generali | D5: ='Mappatura e valutazione rischio'!B10 -> Affidamento diretto di lavori, servizi e forniture | E5: ='Mappatura e valutazione rischio'!E10 -> Affidamenti a soggetti non idonei al fine di favorire determinati operatori economici o mancato rispetto del principio della rotazione | F5: ='Mappatura e valutazione rischio'!S10 -> MEDIO | G5: ='Mappatura e valutazione rischio'!T10 -> Rotazione dei fornitori. Verifica dei requisiti e delle autocertificazioni presentate. | H5: ='Mappatura e valutazione rischio'!V10 -> Tutte le procedure | I5: 1 | J5: Direzione generale
A6: 5 | B6: ='Mappatura e valutazione rischio'!C11 -> Contratti pubblici | C6: Direzione generale - Affari generali | D6: ='Mappatura e valutazione rischio'!B11 -> Individuazione della procedura di scelta del contraente | E6: ='Mappatura e valutazione rischio'!E11 -> Utilizzo dell’affidamento diretto al di fuori dei casi previsti dalla legge | F6: ='Mappatura e valutazione rischio'!S11 -> BASSO | G6: ='Mappatura e valutazione rischio'!T11 -> Audit su bandi e capitolati per verificarne la conformità alla normativa vigente e alle linee guida ANAC. | H6: ='Mappatura e valutazione rischio'!V11 -> Tutte le procedure del 2023 | I6: Almeno il 50% delle procedure | J6: Direzione generale
A7: 6 | B7: ='Mappatura e valutazione rischio'!C12 -> Istituzionale | C7: Consiglio/Ufficio Studi | D7: ='Mappatura e valutazione rischio'!B12 -> Adozione di pareri concernenti l’ordinamento del notariato o tematiche sulla professione notarile. | E7: ='Mappatura e valutazione rischio'!E12 -> Rilascio di pareri volti a favorire indebitamente la categoria professionale. | F7: ='Mappatura e valutazione rischio'!S12 -> MEDIO | G7: ='Mappatura e valutazione rischio'!T12 -> Redazione di un’apposita relazione da parte del Settore studi successiva all’adozione del parere. Verifica di congruità del parere adottato da parte del Consiglio, sulla base della relazione redatta dal Settore studi. | H7: ='Mappatura e valutazione rischio'!V12 -> Ogni parere | I7: Almeno il 50% dei pareri | J7: Consiglio
A8: 7 | B8: Incarichi e nomine | C8: ='Mappatura e valutazione rischio'!D13 -> Comitato esecutivo -Direzione generale | D8: ='Mappatura e valutazione rischio'!B13 -> Conferimento di incarichi di consulenza e nomine varie | E8: ='Mappatura e valutazione rischio'!E13 -> Conferimento di incarichi/nomine a soggetti non professionalmente adeguati oppure che versano in condizioni di incompatibilità e/o conflitto di interessi | F8: ='Mappatura e valutazione rischio'!S13 -> MEDIO | G8: ='Mappatura e valutazione rischio'!T13 -> Sottoscrizione, da parte degli interessati, della modulistica volta a dichiarare l’assenza di incompatibilità e/o conflitto di interessi. Verifica della congruità e della pertinenza del curriculum vitae dell’interessato. Pubblicazione dei dati e delle informazioni concernenti i soggetti incaricati/nominati previsti dalla normativa vigente. Applicazione ai soggetti incaricati/nominati del Codice di comportamento del CNN. | H8: ='Mappatura e valutazione rischio'!V13 -> Ogni incarico | I8: 1 | J8: Comitato esecutivo e Direzione generale
A9: 8 | B9: Incarichi e nomine | C9: ='Mappatura e valutazione rischio'!D14 -> Consiglio e Comitato esecutivo | D9: ='Mappatura e valutazione rischio'!B14 -> Definizione dell’oggetto e dei requisiti dell’incarico o della nomina | E9: ='Mappatura e valutazione rischio'!E14 -> Valutazione inappropriata dell’oggetto e dei requisiti dell’incarico o della nomina al fine di favorire determinati soggetti | F9: ='Mappatura e valutazione rischio'!S14 -> MEDIO | G9: ='Mappatura e valutazione rischio'!T14 -> Sottoposizione preliminare dell'oggetto e dei requisiti dell'incarico al Consiglio. | H9: ='Mappatura e valutazione rischio'!V14 -> Ogni incarico | I9: 1 | J9: Consiglio e Comitato esecutivo
A10: 9 | B10: ='Mappatura e valutazione rischio'!C15 -> Contratti pubblici | C10: Consiglio e Comitato esecutivo | D10: ='Mappatura e valutazione rischio'!B15 -> Analisi e definizione dei fabbisogni per l’approvvigionamento di beni e servizi | E10: ='Mappatura e valutazione rischio'!E15 -> Definizione di un fabbisogno non rispondente a criteri di efficienza/efficacia/economicità | F10: ='Mappatura e valutazione rischio'!S15 -> MEDIO | G10: ='Mappatura e valutazione rischio'!T15 -> Predeterminazione dei criteri e individuazione delle priorità e preventiva sottoposizione al Consiglio. Utilizzo di convenzioni e accordi/quadro per i servizi standardizzabili. | H10: ='Mappatura e valutazione rischio'!V15 -> Ogni definizione di fabbisogno | I10: 1 | J10: Consiglio e Comitato esecutivo
A11: 10 | B11: ='Mappatura e valutazione rischio'!C16 -> Strumentale | C11: Segreterie Archivio Protocollo | D11: ='Mappatura e valutazione rischio'!B16 -> Protocollazione di atti e documenti in entrata e in uscita | E11: ='Mappatura e valutazione rischio'!E16 -> Alterazione del processo di ricezione e protocollazione di atti in ingresso al CNN al fine di incidere sulla regolarità dei relativi processi, per conseguire vantaggi personali | F11: ='Mappatura e valutazione rischio'!S16 -> MEDIO | G11: ='Mappatura e valutazione rischio'!T16 -> Stampa del registro di protocollo a fine giornata. | H11: ='Mappatura e valutazione rischio'!V16 -> Ogni giorno | I11: 1 | J11: Protocollo
A12: 11 | B12: ='Mappatura e valutazione rischio'!C17 -> Istituzionale | C12: ='Mappatura e valutazione rischio'!D17 -> Consiglio | D12: ='Mappatura e valutazione rischio'!B17 -> Individuazione dei notai da proporre al Ministero della giustizia quali componenti della commissione concorsuale | E12: ='Mappatura e valutazione rischio'!E17 -> Designazione di notai che abbiano interessi propri alla partecipazione alla commissione concorsuale commissione concorsuale | F12: ='Mappatura e valutazione rischio'!S17 -> RILEVANTE | G12: ='Mappatura e valutazione rischio'!T17 -> Compilazione di appositi moduli di autocertificazione di assenza di conflitto di interessi. | H12: ='Mappatura e valutazione rischio'!V17 -> Ogni designazione | I12: 1 | J12: Presidenza
A13: 12 | B13: ='Mappatura e valutazione rischio'!C18 -> Istituzionale | C13: Comunicazione e stampa | D13: ='Mappatura e valutazione rischio'!B18 -> Concessione di Patrocini del CNN ad eventi di soggetti terzi | E13: ='Mappatura e valutazione rischio'!E18 -> Inappropriata valutazione dell’oggetto e dello scopo dell’evento al fine di favorire soggetti terzi | F13: ='Mappatura e valutazione rischio'!S18 -> BASSO | G13: ='Mappatura e valutazione rischio'!T18 -> Rispetto del regolamento interno che disciplina la concessione di patrocini | H13: ='Mappatura e valutazione rischio'!V18 -> Ogni concessione | I13: 1 | J13: Comunicazione e stampa
A14: 13 | B14: ='Mappatura e valutazione rischio'!C19 -> Istituzionale | C14: Comunicazione e stampa | D14: ='Mappatura e valutazione rischio'!B19 -> Iniziative di comunicazione istituzionale | E14: ='Mappatura e valutazione rischio'!E19 -> Indebita promozione di iniziative di comunicazione istituzionale non conformi alle attività dell’ente al fine di favorire economicamente soggetti terzi | F14: ='Mappatura e valutazione rischio'!S19 -> MEDIO | G14: ='Mappatura e valutazione rischio'!T19 -> Sottoposizione preliminare della proposta di iniziativa di comunicazione al Consiglio | H14: ='Mappatura e valutazione rischio'!V19 -> Ogni iniziativa | I14: 1 | J14: Comitato esecutivo
A15: 14 | B15: ='Mappatura e valutazione rischio'!C20 -> Istituzionale | C15: ='Mappatura e valutazione rischio'!D20 -> Consiglio | D15: ='Mappatura e valutazione rischio'!B20 -> Riconoscimento di crediti formativi professionali | E15: ='Mappatura e valutazione rischio'!E20 -> Valutazione inappropriata dei soggetti richiedenti il riconoscimento di crediti formativi professionali | F15: ='Mappatura e valutazione rischio'!S20 -> MEDIO | G15: ='Mappatura e valutazione rischio'!T20 -> Verifica della congruità della richiesta di riconoscimento e corrispondenza della stessa alle disposizioni del regolamento sulla formazione professionale permanente da parte della Fondazione Italiana del Notariato | H15: ='Mappatura e valutazione rischio'!V20 -> Ogni riconoscimento | I15: 1 | J15: Fondazione Italiana del Notariato
A16: 15 | B16: ='Mappatura e valutazione rischio'!C21 -> Acquisizione e gestione del personale | C16: ='Mappatura e valutazione rischio'!D21 -> Comitato esecutivo -Direzione generale - Amministrazione e Personale | D16: ='Mappatura e valutazione rischio'!B21 -> Progressioni di carriera del personale dipendente | E16: ='Mappatura e valutazione rischio'!E21 -> Progressioni economiche o di carriera accordate illegittimamente allo scopo di agevolare dipendenti/candidati particolari | F16: ='Mappatura e valutazione rischio'!S21 -> MEDIO | G16: ='Mappatura e valutazione rischio'!T21 -> Sottoscrizione preventiva di accordi volti a disciplinare la progressione di carriera del personale dipendente | H16: ='Mappatura e valutazione rischio'!V21 -> Ogni procedura | I16: 1 | J16: Comitato esecutivo/Direzione generale
A17: 16 | B17: ='Mappatura e valutazione rischio'!C22 -> Strumentale | C17: Comitato esecutivo/Ufficio Studi/Biblioteca | D17: ='Mappatura e valutazione rischio'!B22 -> Acquisto dei volumi per la biblioteca | E17: ='Mappatura e valutazione rischio'!E22 -> Acquisto di volumi non pertinenti alle attività istituzionali del CNN o, comunque, non utili ai suoi fini istituzionali | F17: ='Mappatura e valutazione rischio'!S22 -> BASSO | G17: ='Mappatura e valutazione rischio'!T22 -> Definizione preliminari del fabbisogno. Autorizzazione del Direttore generale all’acquisto di volumi non inclusi nel fabbisogno | H17: ='Mappatura e valutazione rischio'!V22 -> Ogni acquisto | I17: 1 | J17: Segretario
A18: 17 | B18: ='Mappatura e valutazione rischio'!C23 -> Strumentale | C18: Comitato esecutivo/Amministrazione | D18: ='Mappatura e valutazione rischio'!B23 -> Rimborsi spese a Consiglieri e personale amministrativo | E18: ='Mappatura e valutazione rischio'!E23 -> Autorizzazione di spese e rimborsi non conformi alle previsioni regolamentari interne o sulla base di documentazione non attendibile | F18: ='Mappatura e valutazione rischio'!S23 -> BASSO | G18: ='Mappatura e valutazione rischio'!T23 -> Utilizzo di modulistica standardizzata Autorizzazione preventiva da parte del Direttore generale | H18: ='Mappatura e valutazione rischio'!V23 -> Ogni procedura di rimborso | I18: 1 | J18: Direzione generale - Amministrazione Personale
A19: 18 | B19: ='Mappatura e valutazione rischio'!C24 -> Contratti pubblici | C19: Consiglio/Comitato esecutivo/Direzione generale/Affari generali | D19: ='Mappatura e valutazione rischio'!B24 -> Affidamento dei servizi assicurativi per responsabilità professionale dei notai | E19: ='Mappatura e valutazione rischio'!E24 -> Definizione di requisiti di partecipazione alla gara al fine di favorire determinati operatori economici anche al fine di far proporre ulteriori polizze integrative legate a quella obbligatoria | F19: ='Mappatura e valutazione rischio'!S24 -> MEDIO | G19: ='Mappatura e valutazione rischio'!T24 -> Definizione dei requisiti di partecipazione e dei requisiti di polizza anche sulla base delle statiche sinistri rilevati negli anni precedenti. Definizione dei codici sinistro. | H19: ='Mappatura e valutazione rischio'!V24 -> Ogni affidamento | I19: 1 | J19: Direzione generale - Affari generali

Sheet AREE DI RISCHIO
A1: Scegliere dall'elenco
A2: autorizzazioni o concessioni
A3: Contratti pubblici
A4: concessione ed erogazione di sovvenzioni, contributi, sussidi, ausili finanziari, nonchè attribuzione di vantaggi economici di qualunque genere a persone ed enti pubblici e privati
A5: Acquisizione e gestione del personale
A6: gestione delle entrate, delle spese e del patrimonio
A7: controlli e verifiche ispezioni sanzioni
A8: incarichi e nomine
A9: affari legali e contenzioso
A10: ISTITUZIONALE
A11: STRUMENTALE

Sheet TIPOLOGIA MISURA
A1: Scegliere dall'elenco
A2: Controllo
A3: Trasparenza
A4: Definizione e promozione dell’etica e di standard di comportamento
A5: Regolamentazione
A6: Semplificazione
A7: Formazione
A8: Sensibilizzazione e partecipazione
A9: Rotazione
A10: Segnalazione e protezione
A11: Disciplina del conflitto di interessi
A12: Regolazione dei rapporti con i “rappresentanti di interessi particolari” (lobbies)
A13: Organizzazione
